BEGIN:VCALENDAR
VERSION:2.0
PRODID:-//Escuela Técnica Superior Ingenieros Industriales - ECPv6.15.20//NONSGML v1.0//EN
CALSCALE:GREGORIAN
METHOD:PUBLISH
X-ORIGINAL-URL:https://www.industriales.upm.es
X-WR-CALDESC:Eventos para Escuela Técnica Superior Ingenieros Industriales
REFRESH-INTERVAL;VALUE=DURATION:PT1H
X-Robots-Tag:noindex
X-PUBLISHED-TTL:PT1H
BEGIN:VTIMEZONE
TZID:Europe/Madrid
BEGIN:DAYLIGHT
TZOFFSETFROM:+0100
TZOFFSETTO:+0200
TZNAME:CEST
DTSTART:20220327T010000
END:DAYLIGHT
BEGIN:STANDARD
TZOFFSETFROM:+0200
TZOFFSETTO:+0100
TZNAME:CET
DTSTART:20221030T010000
END:STANDARD
BEGIN:DAYLIGHT
TZOFFSETFROM:+0100
TZOFFSETTO:+0200
TZNAME:CEST
DTSTART:20230326T010000
END:DAYLIGHT
BEGIN:STANDARD
TZOFFSETFROM:+0200
TZOFFSETTO:+0100
TZNAME:CET
DTSTART:20231029T010000
END:STANDARD
BEGIN:DAYLIGHT
TZOFFSETFROM:+0100
TZOFFSETTO:+0200
TZNAME:CEST
DTSTART:20240331T010000
END:DAYLIGHT
BEGIN:STANDARD
TZOFFSETFROM:+0200
TZOFFSETTO:+0100
TZNAME:CET
DTSTART:20241027T010000
END:STANDARD
END:VTIMEZONE
BEGIN:VEVENT
DTSTART;TZID=Europe/Madrid:20231024T093000
DTEND;TZID=Europe/Madrid:20231024T203000
DTSTAMP:20260423T005720
CREATED:20231019T100322Z
LAST-MODIFIED:20231019T100322Z
UID:10000448-1698139800-1698179400@www.industriales.upm.es
SUMMARY:Congreso Innovatia 8.3
DESCRIPTION:
URL:https://www.industriales.upm.es/info-evento/congreso-innovatia-8-3/
LOCATION:Salón de ACTOS
CATEGORIES:Congreso / Workshop
END:VEVENT
BEGIN:VEVENT
DTSTART;TZID=Europe/Madrid:20231024T103000
DTEND;TZID=Europe/Madrid:20231024T113000
DTSTAMP:20260423T005720
CREATED:20231017T144658Z
LAST-MODIFIED:20231020T081106Z
UID:10000446-1698143400-1698147000@www.industriales.upm.es
SUMMARY:Charla para posibles estudiantes de movilidad con coordinadora Cranfield
DESCRIPTION:
URL:https://www.industriales.upm.es/info-evento/charla-para-posibles-estudiantes-de-movilidad-en-cranfield/
LOCATION:Aula D
END:VEVENT
END:VCALENDAR