BEGIN:VCALENDAR
VERSION:2.0
PRODID:-//Escuela Técnica Superior Ingenieros Industriales - ECPv6.15.20//NONSGML v1.0//EN
CALSCALE:GREGORIAN
METHOD:PUBLISH
X-ORIGINAL-URL:https://www.industriales.upm.es
X-WR-CALDESC:Eventos para Escuela Técnica Superior Ingenieros Industriales
REFRESH-INTERVAL;VALUE=DURATION:PT1H
X-Robots-Tag:noindex
X-PUBLISHED-TTL:PT1H
BEGIN:VTIMEZONE
TZID:Europe/Madrid
BEGIN:DAYLIGHT
TZOFFSETFROM:+0100
TZOFFSETTO:+0200
TZNAME:CEST
DTSTART:20220327T010000
END:DAYLIGHT
BEGIN:STANDARD
TZOFFSETFROM:+0200
TZOFFSETTO:+0100
TZNAME:CET
DTSTART:20221030T010000
END:STANDARD
BEGIN:DAYLIGHT
TZOFFSETFROM:+0100
TZOFFSETTO:+0200
TZNAME:CEST
DTSTART:20230326T010000
END:DAYLIGHT
BEGIN:STANDARD
TZOFFSETFROM:+0200
TZOFFSETTO:+0100
TZNAME:CET
DTSTART:20231029T010000
END:STANDARD
BEGIN:DAYLIGHT
TZOFFSETFROM:+0100
TZOFFSETTO:+0200
TZNAME:CEST
DTSTART:20240331T010000
END:DAYLIGHT
BEGIN:STANDARD
TZOFFSETFROM:+0200
TZOFFSETTO:+0100
TZNAME:CET
DTSTART:20241027T010000
END:STANDARD
END:VTIMEZONE
BEGIN:VEVENT
DTSTART;TZID=Europe/Madrid:20231006T083000
DTEND;TZID=Europe/Madrid:20231006T203000
DTSTAMP:20260423T040504
CREATED:20230620T125721Z
LAST-MODIFIED:20230914T062005Z
UID:10000010-1696581000-1696624200@www.industriales.upm.es
SUMMARY:Didáctica e Historia de la Física y la Química: de los conceptos a las situaciones de aprendizaje
DESCRIPTION:La jornada está organizada por el Grupo Especializado en Didáctica e Historia de la Física y la Química (GEDH)\, común a las Reales Sociedades Españolas de Física (RSEF) y de Química (RSEQ)\, en colaboración con el Grupo de Innovación Educativa de Didáctica de la Química y el Instituto de Ciencias de la Educación de la Universidad Politécnica de Madrid\, y el proyecto educativo europeo Scientix. El objetivo es favorecer el intercambio de ideas y experiencias sobre temas de didáctica e historia de las ciencias en general\, y física y química en particular. Con la jornada\, se conmemora que el día de la fecha se puede asociar al número de Avogadro\, de tanto interés en estas ciencias.
URL:https://www.industriales.upm.es/info-evento/didactica-e-historia-de-la-fisica-y-la-quimica-de-los-conceptos-a-las-situaciones-de-aprendizaje/
ATTACH;FMTTYPE=image/jpeg:https://www.industriales.upm.es/wp-content/uploads/2023/06/Cartel-corto.jpg
END:VEVENT
BEGIN:VEVENT
DTSTART;TZID=Europe/Madrid:20231006T133000
DTEND;TZID=Europe/Madrid:20231006T150000
DTSTAMP:20260423T040504
CREATED:20230928T065005Z
LAST-MODIFIED:20230928T065445Z
UID:10000418-1696599000-1696604400@www.industriales.upm.es
SUMMARY:Taller Linux. Asociación RESET.
DESCRIPTION:
URL:https://www.industriales.upm.es/info-evento/taller-linux/
ATTACH;FMTTYPE=image/jpeg:https://www.industriales.upm.es/wp-content/uploads/2023/09/Cartel-Taller-Linux-RESET.jpg
END:VEVENT
BEGIN:VEVENT
DTSTART;TZID=Europe/Madrid:20231006T190000
DTEND;TZID=Europe/Madrid:20231006T200000
DTSTAMP:20260423T040504
CREATED:20230921T100645Z
LAST-MODIFIED:20230921T100736Z
UID:10000415-1696618800-1696622400@www.industriales.upm.es
SUMMARY:Concierto del Cuarteto de cuerda Brücke
DESCRIPTION:La Escuela\, junto con la Asociación de Antiguos Alumnos\, ha organizado un concierto de cuerda\, para el próximo día 6 de octubre de 2023\, a las 19:00 horas. \nTenemos un precio especial de 10 € para el personal de la Escuela. \nEl link a la reserva: RESERVA DE ENTRADAS\n(O a través del cartel). \nMás información sobre los músicos en CUARTETO BRUCKE
URL:https://www.industriales.upm.es/info-evento/concierto-del-cuarteto-de-cuerda-brucke/
CATEGORIES:Actuaciones (Música, Teatro, Cine)
ATTACH;FMTTYPE=image/jpeg:https://www.industriales.upm.es/wp-content/uploads/2023/09/imagenconcierto.jpg
END:VEVENT
END:VCALENDAR