BEGIN:VCALENDAR
VERSION:2.0
PRODID:-//Escuela Técnica Superior Ingenieros Industriales - ECPv6.15.20//NONSGML v1.0//EN
CALSCALE:GREGORIAN
METHOD:PUBLISH
X-WR-CALNAME:Escuela Técnica Superior Ingenieros Industriales
X-ORIGINAL-URL:https://www.industriales.upm.es
X-WR-CALDESC:Eventos para Escuela Técnica Superior Ingenieros Industriales
REFRESH-INTERVAL;VALUE=DURATION:PT1H
X-Robots-Tag:noindex
X-PUBLISHED-TTL:PT1H
BEGIN:VTIMEZONE
TZID:Europe/Madrid
BEGIN:DAYLIGHT
TZOFFSETFROM:+0100
TZOFFSETTO:+0200
TZNAME:CEST
DTSTART:20220327T010000
END:DAYLIGHT
BEGIN:STANDARD
TZOFFSETFROM:+0200
TZOFFSETTO:+0100
TZNAME:CET
DTSTART:20221030T010000
END:STANDARD
BEGIN:DAYLIGHT
TZOFFSETFROM:+0100
TZOFFSETTO:+0200
TZNAME:CEST
DTSTART:20230326T010000
END:DAYLIGHT
BEGIN:STANDARD
TZOFFSETFROM:+0200
TZOFFSETTO:+0100
TZNAME:CET
DTSTART:20231029T010000
END:STANDARD
BEGIN:DAYLIGHT
TZOFFSETFROM:+0100
TZOFFSETTO:+0200
TZNAME:CEST
DTSTART:20240331T010000
END:DAYLIGHT
BEGIN:STANDARD
TZOFFSETFROM:+0200
TZOFFSETTO:+0100
TZNAME:CET
DTSTART:20241027T010000
END:STANDARD
END:VTIMEZONE
BEGIN:VEVENT
DTSTART;TZID=Europe/Madrid:20231003T180000
DTEND;TZID=Europe/Madrid:20231003T203000
DTSTAMP:20260422T223842
CREATED:20231002T091454Z
LAST-MODIFIED:20231002T091454Z
UID:10000436-1696356000-1696365000@www.industriales.upm.es
SUMMARY:Lanzamiento del programa de mentorías para alumnas de último curso de grado y de máster y doctorado
DESCRIPTION:
URL:https://www.industriales.upm.es/info-evento/lanzamiento-del-programa-de-mentorias-para-alumnas-de-ultimo-curso-de-grado-y-de-master-y-doctorado/
LOCATION:Aula C
END:VEVENT
BEGIN:VEVENT
DTSTART;TZID=Europe/Madrid:20231003T183000
DTEND;TZID=Europe/Madrid:20231003T200000
DTSTAMP:20260422T223842
CREATED:20230929T072002Z
LAST-MODIFIED:20230929T072830Z
UID:10000432-1696357800-1696363200@www.industriales.upm.es
SUMMARY:AIRBUS
DESCRIPTION:AIRBUS Women Network – Lanzamiento Programa Mentoría Estudiantes ETSII \nMartes 3 de octubre \n18:30h-20:00h\, Aula C \nVuelve el programa de mentorías MEntorizando El Talento (MEET) de la Women Network (WN) de Airbus en la ETSI Industriales de la Universidad Politécnica de Madrid\, co-organizado entre Airbus y la Escuela. \nEn la presentación se explicará qué es la WN de Airbus y su proyecto de mentoring de mujeres estudiantes de ingeniería. \nMás información
URL:https://www.industriales.upm.es/info-evento/airbus/
LOCATION:Aula C
ATTACH;FMTTYPE=image/jpeg:https://www.industriales.upm.es/wp-content/uploads/2023/09/Imagen_MEET_Airbus_2022_23-scaled.jpg
END:VEVENT
END:VCALENDAR