BEGIN:VCALENDAR
VERSION:2.0
PRODID:-//Escuela Técnica Superior Ingenieros Industriales - ECPv6.15.20//NONSGML v1.0//EN
CALSCALE:GREGORIAN
METHOD:PUBLISH
X-ORIGINAL-URL:https://www.industriales.upm.es
X-WR-CALDESC:Eventos para Escuela Técnica Superior Ingenieros Industriales
REFRESH-INTERVAL;VALUE=DURATION:PT1H
X-Robots-Tag:noindex
X-PUBLISHED-TTL:PT1H
BEGIN:VTIMEZONE
TZID:Europe/Madrid
BEGIN:DAYLIGHT
TZOFFSETFROM:+0100
TZOFFSETTO:+0200
TZNAME:CEST
DTSTART:20220327T010000
END:DAYLIGHT
BEGIN:STANDARD
TZOFFSETFROM:+0200
TZOFFSETTO:+0100
TZNAME:CET
DTSTART:20221030T010000
END:STANDARD
BEGIN:DAYLIGHT
TZOFFSETFROM:+0100
TZOFFSETTO:+0200
TZNAME:CEST
DTSTART:20230326T010000
END:DAYLIGHT
BEGIN:STANDARD
TZOFFSETFROM:+0200
TZOFFSETTO:+0100
TZNAME:CET
DTSTART:20231029T010000
END:STANDARD
BEGIN:DAYLIGHT
TZOFFSETFROM:+0100
TZOFFSETTO:+0200
TZNAME:CEST
DTSTART:20240331T010000
END:DAYLIGHT
BEGIN:STANDARD
TZOFFSETFROM:+0200
TZOFFSETTO:+0100
TZNAME:CET
DTSTART:20241027T010000
END:STANDARD
END:VTIMEZONE
BEGIN:VEVENT
DTSTART;TZID=Europe/Madrid:20231002T080000
DTEND;TZID=Europe/Madrid:20231002T150000
DTSTAMP:20260423T022544
CREATED:20231002T091230Z
LAST-MODIFIED:20231002T091230Z
UID:10000434-1696233600-1696258800@www.industriales.upm.es
SUMMARY:Defensa de trabajos fin de máster
DESCRIPTION:
URL:https://www.industriales.upm.es/info-evento/defensa-de-trabajos-fin-de-master-3/
LOCATION:Aula C
CATEGORIES:Defensa TFMs
END:VEVENT
BEGIN:VEVENT
DTSTART;TZID=Europe/Madrid:20231002T093000
DTEND;TZID=Europe/Madrid:20231002T110000
DTSTAMP:20260423T022544
CREATED:20230927T110204Z
LAST-MODIFIED:20230929T094531Z
UID:10000416-1696239000-1696244400@www.industriales.upm.es
SUMMARY:Conferencia inaugural Ingenia Módulo C: hablamos de intangibles\, talento\, innovación y marca.
DESCRIPTION:La sesión de lanzamiento del Módulo C\, competencias de sostenibilidad\, de la asignatura INGENIA 2023-24\, contará con la ponencia invitada de Emma Fernández Alonso\, ingeniera de telecomunicación por la UPM\, ex-directora general de Indra y consejera de varias empresas cotizadas. Tendremos ocasión de conversar sobre «La importancia de la gestión de intangibles en tiempos de cambio: talento\, innovación y marca».
URL:https://www.industriales.upm.es/info-evento/conferencia-inaugural-ingenia-modulo-c-hablamos-de-intangibles-talento-innovacion-y-marca/
LOCATION:Salón de ACTOS
ATTACH;FMTTYPE=image/jpeg:https://www.industriales.upm.es/wp-content/uploads/2023/09/Foto2.jpg
END:VEVENT
BEGIN:VEVENT
DTSTART;TZID=Europe/Madrid:20231002T150000
DTEND;TZID=Europe/Madrid:20231002T170000
DTSTAMP:20260423T022544
CREATED:20231002T091346Z
LAST-MODIFIED:20231002T091346Z
UID:10000435-1696258800-1696266000@www.industriales.upm.es
SUMMARY:Circular Supply Chains. Tres ponentes de Iberdrola para presentar un reto EELISA
DESCRIPTION:
URL:https://www.industriales.upm.es/info-evento/circular-supply-chains-tres-ponentes-de-iberdrola-para-presentar-un-reto-eelisa/
LOCATION:Aula C
END:VEVENT
END:VCALENDAR