BEGIN:VCALENDAR
VERSION:2.0
PRODID:-//Escuela Técnica Superior Ingenieros Industriales - ECPv6.15.20//NONSGML v1.0//EN
CALSCALE:GREGORIAN
METHOD:PUBLISH
X-ORIGINAL-URL:https://www.industriales.upm.es
X-WR-CALDESC:Eventos para Escuela Técnica Superior Ingenieros Industriales
REFRESH-INTERVAL;VALUE=DURATION:PT1H
X-Robots-Tag:noindex
X-PUBLISHED-TTL:PT1H
BEGIN:VTIMEZONE
TZID:Europe/Madrid
BEGIN:DAYLIGHT
TZOFFSETFROM:+0100
TZOFFSETTO:+0200
TZNAME:CEST
DTSTART:20220327T010000
END:DAYLIGHT
BEGIN:STANDARD
TZOFFSETFROM:+0200
TZOFFSETTO:+0100
TZNAME:CET
DTSTART:20221030T010000
END:STANDARD
BEGIN:DAYLIGHT
TZOFFSETFROM:+0100
TZOFFSETTO:+0200
TZNAME:CEST
DTSTART:20230326T010000
END:DAYLIGHT
BEGIN:STANDARD
TZOFFSETFROM:+0200
TZOFFSETTO:+0100
TZNAME:CET
DTSTART:20231029T010000
END:STANDARD
BEGIN:DAYLIGHT
TZOFFSETFROM:+0100
TZOFFSETTO:+0200
TZNAME:CEST
DTSTART:20240331T010000
END:DAYLIGHT
BEGIN:STANDARD
TZOFFSETFROM:+0200
TZOFFSETTO:+0100
TZNAME:CET
DTSTART:20241027T010000
END:STANDARD
END:VTIMEZONE
BEGIN:VEVENT
DTSTART;TZID=Europe/Madrid:20230925T083000
DTEND;TZID=Europe/Madrid:20230925T200000
DTSTAMP:20260423T115311
CREATED:20230914T082856Z
LAST-MODIFIED:20230914T082856Z
UID:10000407-1695630600-1695672000@www.industriales.upm.es
SUMMARY:Defensa de Trabajos Fin de Grado
DESCRIPTION:
URL:https://www.industriales.upm.es/info-evento/defensa-de-trabajos-fin-de-grado/
LOCATION:Aula C
CATEGORIES:Defensa TFGs
END:VEVENT
BEGIN:VEVENT
DTSTART;TZID=Europe/Madrid:20230925T083000
DTEND;TZID=Europe/Madrid:20230925T200000
DTSTAMP:20260423T115311
CREATED:20230914T083002Z
LAST-MODIFIED:20230914T083002Z
UID:10000408-1695630600-1695672000@www.industriales.upm.es
SUMMARY:Defensa de Trabajos Fin de Grado
DESCRIPTION:
URL:https://www.industriales.upm.es/info-evento/defensa-de-trabajos-fin-de-grado-2/
LOCATION:Aula D
CATEGORIES:Defensa TFGs
END:VEVENT
BEGIN:VEVENT
DTSTART;TZID=Europe/Madrid:20230925T133000
DTEND;TZID=Europe/Madrid:20230925T153000
DTSTAMP:20260423T115311
CREATED:20230921T091137Z
LAST-MODIFIED:20230921T091137Z
UID:10000414-1695648600-1695655800@www.industriales.upm.es
SUMMARY:Bienvenida al nuevo PDI y PTGAS por parte del Director de la Escuela
DESCRIPTION:
URL:https://www.industriales.upm.es/info-evento/bienvenida-al-nuevo-pdi-y-ptgas-por-parte-del-director-de-la-escuela/
LOCATION:Aula D
CATEGORIES:Acto Institucional
END:VEVENT
END:VCALENDAR