BEGIN:VCALENDAR
VERSION:2.0
PRODID:-//Escuela Técnica Superior Ingenieros Industriales - ECPv6.15.20//NONSGML v1.0//EN
CALSCALE:GREGORIAN
METHOD:PUBLISH
X-WR-CALNAME:Escuela Técnica Superior Ingenieros Industriales
X-ORIGINAL-URL:https://www.industriales.upm.es
X-WR-CALDESC:Eventos para Escuela Técnica Superior Ingenieros Industriales
REFRESH-INTERVAL;VALUE=DURATION:PT1H
X-Robots-Tag:noindex
X-PUBLISHED-TTL:PT1H
BEGIN:VTIMEZONE
TZID:Europe/Madrid
BEGIN:DAYLIGHT
TZOFFSETFROM:+0100
TZOFFSETTO:+0200
TZNAME:CEST
DTSTART:20220327T010000
END:DAYLIGHT
BEGIN:STANDARD
TZOFFSETFROM:+0200
TZOFFSETTO:+0100
TZNAME:CET
DTSTART:20221030T010000
END:STANDARD
BEGIN:DAYLIGHT
TZOFFSETFROM:+0100
TZOFFSETTO:+0200
TZNAME:CEST
DTSTART:20230326T010000
END:DAYLIGHT
BEGIN:STANDARD
TZOFFSETFROM:+0200
TZOFFSETTO:+0100
TZNAME:CET
DTSTART:20231029T010000
END:STANDARD
BEGIN:DAYLIGHT
TZOFFSETFROM:+0100
TZOFFSETTO:+0200
TZNAME:CEST
DTSTART:20240331T010000
END:DAYLIGHT
BEGIN:STANDARD
TZOFFSETFROM:+0200
TZOFFSETTO:+0100
TZNAME:CET
DTSTART:20241027T010000
END:STANDARD
END:VTIMEZONE
BEGIN:VEVENT
DTSTART;TZID=Europe/Madrid:20230911T093000
DTEND;TZID=Europe/Madrid:20230911T133000
DTSTAMP:20260425T141141
CREATED:20230908T102829Z
LAST-MODIFIED:20230908T103157Z
UID:10000399-1694424600-1694439000@www.industriales.upm.es
SUMMARY:Charla sobre el Sector Ferroviario y visita de estudiantes de la Universidad de Dresde.
DESCRIPTION:Lunes 11 de Septiembre en Aula D: \n9.30h: Welcome to the ETSII \n10h – 11h: Talgo technology .Pablo Garrido \n11h – 12h: café \n12h – 13h: Artificial Intelligence applied to Railway sector .Pablo Garrido. \n13h – 13.30h: pausa \n13.30h – 14.30h: Juan de Dios Sanz Bobi-UPM
URL:https://www.industriales.upm.es/info-evento/charla-sobre-el-sector-ferroviario-y-visita-de-estudiantes-de-la-universidad-de-dresde/
END:VEVENT
BEGIN:VEVENT
DTSTART;TZID=Europe/Madrid:20230911T130000
DTEND;TZID=Europe/Madrid:20230911T160000
DTSTAMP:20260425T141141
CREATED:20230908T083255Z
LAST-MODIFIED:20230908T083428Z
UID:10000393-1694437200-1694448000@www.industriales.upm.es
SUMMARY:Jornada de Bienvenida programa Mentor
DESCRIPTION:
URL:https://www.industriales.upm.es/info-evento/jornada-de-bienvenida-programa-mentor/2023-09-11/
LOCATION:Salón de ACTOS
END:VEVENT
END:VCALENDAR